BEGIN:VCALENDAR
VERSION:2.0
PRODID:-//Vakgroep Strobouw - ECPv6.15.15//NONSGML v1.0//EN
CALSCALE:GREGORIAN
METHOD:PUBLISH
X-WR-CALNAME:Vakgroep Strobouw
X-ORIGINAL-URL:https://vakgroepstrobouw.org
X-WR-CALDESC:Evenementen voor Vakgroep Strobouw
REFRESH-INTERVAL;VALUE=DURATION:PT1H
X-Robots-Tag:noindex
X-PUBLISHED-TTL:PT1H
BEGIN:VTIMEZONE
TZID:Europe/Amsterdam
BEGIN:DAYLIGHT
TZOFFSETFROM:+0100
TZOFFSETTO:+0200
TZNAME:CEST
DTSTART:20250330T010000
END:DAYLIGHT
BEGIN:STANDARD
TZOFFSETFROM:+0200
TZOFFSETTO:+0100
TZNAME:CET
DTSTART:20251026T010000
END:STANDARD
BEGIN:DAYLIGHT
TZOFFSETFROM:+0100
TZOFFSETTO:+0200
TZNAME:CEST
DTSTART:20260329T010000
END:DAYLIGHT
BEGIN:STANDARD
TZOFFSETFROM:+0200
TZOFFSETTO:+0100
TZNAME:CET
DTSTART:20261025T010000
END:STANDARD
BEGIN:DAYLIGHT
TZOFFSETFROM:+0100
TZOFFSETTO:+0200
TZNAME:CEST
DTSTART:20270328T010000
END:DAYLIGHT
BEGIN:STANDARD
TZOFFSETFROM:+0200
TZOFFSETTO:+0100
TZNAME:CET
DTSTART:20271031T010000
END:STANDARD
END:VTIMEZONE
BEGIN:VEVENT
DTSTART;TZID=Europe/Amsterdam:20260220T123000
DTEND;TZID=Europe/Amsterdam:20260220T153000
DTSTAMP:20260426T003521
CREATED:20260116T144205Z
LAST-MODIFIED:20260127T095757Z
UID:28157-1771590600-1771601400@vakgroepstrobouw.org
SUMMARY:Kalk lezing (door Frank Ankum)
DESCRIPTION:KALK LEZING (door Frank Ankum)\nWaar gaat het over?\n\nDeze lezing is gericht op het belichten van alle in’s en out’s van het bindmiddel kalk. Aan bod komen de geschiedenis van kalk\, de praktische eigenschappen en de toepassingen ervan: van het verleden tot de hedendaagse ecologische bouw.\n\nWaarom zou je komen?\n\nHeb je je altijd afgevraagd wat het verschil is tussen kalk en cement? Dan krijg je hier een helder en onafhankelijk antwoord.\n\nVoor wie is dit relevant?\n\nVoor iedereen die geïnteresseerd is in en betrokken is bij duurzame keuzes in de bouw.\n\nWat haal je eruit?\n\nVerdiepte kennis over het bindmiddel kalk en een beter begrip van de toepassingen en voordelen ervan.\n\nWaarom deze lezing en niet een andere?\n\nEen onafhankelijk en eerlijk verhaal over een puur en duurzaam bindmiddel.\n\nIn de duurzame EKO-bouw vindt kalk steeds vaker zijn weg. In ons buitenklimaat is het een uitstekend mortelsysteem voor gevelafwerking op stro- of houtvezelisolatie. Ook als binnentoepassing heeft kalk uitstekende eigenschappen die bijdragen aan een gezond binnenklimaat. \nFrank Ankum\nAl meer dan 35 jaar zet ik me met hart en ziel in voor de restauratie en renovatie van ons cultureel erfgoed. Mijn specialisme: duurzame\, minerale oplossingen – met een bijzondere liefde voor kalk. Ik onderzoek en verbeter toepassingen waarin dit authentieke bindmiddel ook een stevige plek vindt binnen de ecologische bouw. \nPraktisch\nDatum:\nvrijdag 20 februari \nLocatie:\nEcodorp Zuiderveld\, Alfred Hitchcockstraat 42\, Nijmegen. \nAanmelden:\nVia onderstaande knop of door contact op te nemen met Harry Capiau via 0652322045 of harrycapiau@gmail.com \nKlik hier om aan te melden \nAanvang :\n12.30u inloop\, 13.00u start de lezing\, en deze duurt globaal tot 15.30u \nKosten:\nleden 30\,- euro\, niet leden 60\,- euro. \nOverig\nLezing gaat door bij voldoende aanmeldingen. ( minimaal 12 )
URL:https://vakgroepstrobouw.org/agenda/lezing-over-kalk/
LOCATION:Ecodorp Zuiderveld\, Alfred Hitchcockstraat 42\, Nijmegen\, Alfred Hitchcockstraat 42\, Nijmegen\, Gelderland\, Netherlands
CATEGORIES:Lezing
ATTACH;FMTTYPE=image/jpeg:https://vakgroepstrobouw.org/wp-content/uploads/2026/01/kalklezing.jpg
END:VEVENT
END:VCALENDAR