BEGIN:VCALENDAR
VERSION:2.0
PRODID:-//Vakgroep Strobouw - ECPv6.15.15//NONSGML v1.0//EN
CALSCALE:GREGORIAN
METHOD:PUBLISH
X-WR-CALNAME:Vakgroep Strobouw
X-ORIGINAL-URL:https://vakgroepstrobouw.org
X-WR-CALDESC:Evenementen voor Vakgroep Strobouw
REFRESH-INTERVAL;VALUE=DURATION:PT1H
X-Robots-Tag:noindex
X-PUBLISHED-TTL:PT1H
BEGIN:VTIMEZONE
TZID:Europe/Amsterdam
BEGIN:DAYLIGHT
TZOFFSETFROM:+0100
TZOFFSETTO:+0200
TZNAME:CEST
DTSTART:20240331T010000
END:DAYLIGHT
BEGIN:STANDARD
TZOFFSETFROM:+0200
TZOFFSETTO:+0100
TZNAME:CET
DTSTART:20241027T010000
END:STANDARD
BEGIN:DAYLIGHT
TZOFFSETFROM:+0100
TZOFFSETTO:+0200
TZNAME:CEST
DTSTART:20250330T010000
END:DAYLIGHT
BEGIN:STANDARD
TZOFFSETFROM:+0200
TZOFFSETTO:+0100
TZNAME:CET
DTSTART:20251026T010000
END:STANDARD
BEGIN:DAYLIGHT
TZOFFSETFROM:+0100
TZOFFSETTO:+0200
TZNAME:CEST
DTSTART:20260329T010000
END:DAYLIGHT
BEGIN:STANDARD
TZOFFSETFROM:+0200
TZOFFSETTO:+0100
TZNAME:CET
DTSTART:20261025T010000
END:STANDARD
END:VTIMEZONE
BEGIN:VEVENT
DTSTART;TZID=Europe/Amsterdam:20250917T100000
DTEND;TZID=Europe/Amsterdam:20250917T160000
DTSTAMP:20260426T040439
CREATED:20250829T163940Z
LAST-MODIFIED:20250829T165816Z
UID:28090-1758103200-1758124800@vakgroepstrobouw.org
SUMMARY:Excursie langs 3 Biobased gebouwen met stro isolatie in de omgeving Doetinchem
DESCRIPTION:Programma (door Jesse ten Have en Peter Davids): \n\nOm 10.00 uur starten we bij de Natuurlijke woonvilla Vennelaan 8 Doetinchem. Ontvangst met koffie en thee\, een presentatie door de Jesse en een rondleiding door Ruben Heideman (medewerker Rotsbouw)\nTegen 11.30 uur vertrekken we naar het Biobased paviljoen De Marke Roessinkweg 2 Hengelo (GLD). We starten met een presentatie door Peter\, een verantwoorde lunch en is er gelegenheid om rond te kijken.\nVervolgens vertrekken we om 13.30 uur naar de Trainingslocatie – the place to be (Brunsveldweg 9 Zelhem). Hier volgt een presentatie door de eigenaar en bouwheer en een rondleiding. We sluiten af met een borrel.\n\nDeelnamekosten (inclusief lunch en borrel\, exclusief € 25\,- ledenkorting): € 50\,-  \n			\n				\n				\n				\n				\n				\n			\n				Aanmelden
URL:https://vakgroepstrobouw.org/agenda/excursie-biobased-gebouwen-doetinchem/
LOCATION:Vennelaan 8 Doetinchem\, Vennelaan 8\, Doetinchem\, Netherlands
ATTACH;FMTTYPE=image/png:https://vakgroepstrobouw.org/wp-content/uploads/2025/08/Scherm­afbeelding-2025-08-29-om-18.56.41.png
ORGANIZER;CN="Activiteiten Vakgroep Strobouw":MAILTO:excursie@vakgroepstrobouw.org
END:VEVENT
BEGIN:VEVENT
DTSTART;VALUE=DATE:20250918
DTEND;VALUE=DATE:20250922
DTSTAMP:20260426T040439
CREATED:20250902T184910Z
LAST-MODIFIED:20250902T185057Z
UID:28105-1758153600-1758499199@vakgroepstrobouw.org
SUMMARY:European Strawbale Gathering
DESCRIPTION:European Straw Building Gathering 2025 \nVan 18 tot 21 september vindt in Canet de Mar (nabij Barcelona) de European Straw Building Gathering (ESBG) plaats. Vier dagen vol lezingen\, workshops en uitwisseling rond actuele strobouw thema’s zoals renovatie met stro\, load-bearing constructies en andere innovatieve toepassingen. \nNaast het inhoudelijke programma is er ook ruimte voor excursies\, ontmoetingen en informele uitwisseling met strobouwers uit heel Europa. De sfeervolle locatie Villa Flora vormt daarbij het kloppend hart van het evenement. \n👉 Ontdek het volledige programma: esbg2025.casasdepaja.org
URL:https://vakgroepstrobouw.org/agenda/european-strawbale-gathering/
LOCATION:Canet de Mar\, Spain
ATTACH;FMTTYPE=image/jpeg:https://vakgroepstrobouw.org/wp-content/uploads/2025/09/IMG-20220529-WA0003.jpg
END:VEVENT
END:VCALENDAR